BEGIN:VCALENDAR
VERSION:2.0
PRODID:EVENTFROG//EVENT//ICAL
BEGIN:VEVENT
UID:20260425T154255Z-7379632793498716051@eventfrog.ch
DTSTAMP:20260425T154255Z
DTSTART:20260426T081500Z
DTEND:20260426T161500Z
SUMMARY:Zukünfte schreiben - Labor für neue Welten
DESCRIPTION:Zukünfte schreiben - Labor für neue Welten\n\nhttps://eventfrog.ch/de/p/kurse-seminare/zukuenfte-schreiben-labor-fuer-neue-welten-7379632793498716051.html
LOCATION:Schreibwerk Ost
GEO:47.586391;8.827420
URL:https://eventfrog.ch/de/p/kurse-seminare/zukuenfte-schreiben-labor-fuer-neue-welten-7379632793498716051.html
END:VEVENT
END:VCALENDAR