BEGIN:VCALENDAR
VERSION:2.0
PRODID:EVENTFROG//EVENT//ICAL
BEGIN:VEVENT
UID:20260424T022535Z-7380237136589549466@eventfrog.ch
DTSTAMP:20260424T022535Z
DTSTART:20260426T063000Z
DTEND:20260426T153000Z
SUMMARY:ADAC Motorrad Perfektions-Training  1
DESCRIPTION:Für ambitionierte und geübte Biker mit Anspruch zur Perfektion. Erleben Sie die Fahrphysik Ihres Bikes, beherrschen Sie die Fahrdynamik Ihres Motorrad\n\nhttps://eventfrog.ch/de/p/diverses/adac-motorrad-perfektions-training-1-7380237136589549466.html
LOCATION:ADAC Fahrsicherheitszentrum Grevenbroich
GEO:51.083287;6.551566
URL:https://eventfrog.ch/de/p/diverses/adac-motorrad-perfektions-training-1-7380237136589549466.html
END:VEVENT
END:VCALENDAR