BEGIN:VCALENDAR
VERSION:2.0
PRODID:EVENTFROG//EVENT//ICAL
BEGIN:VEVENT
UID:20260420T031719Z-7393609821692386704@eventfrog.ch
DTSTAMP:20260420T031719Z
DTSTART:20260422T163000Z
SUMMARY:LESUNG: Manuela Sanne - Tod zur Teetied
DESCRIPTION:Wenn der Tee kalt wird, fängt der Norder Strickzirkel an zu ermitteln...\nFreut euch auf die Lesung mit Manuela Sanne und der anschließenden Signierstunde!\n\nhttps://eventfrog.ch/de/p/theater-buehne/lesung/lesung-manuela-sanne-tod-zur-teetied-7393609821692386704.html
LOCATION:Hugendubel Norden
GEO:53.594812;7.209437
URL:https://eventfrog.ch/de/p/theater-buehne/lesung/lesung-manuela-sanne-tod-zur-teetied-7393609821692386704.html
END:VEVENT
END:VCALENDAR