BEGIN:VCALENDAR
VERSION:2.0
PRODID:EVENTFROG//EVENT//ICAL
BEGIN:VEVENT
UID:20260419T224556Z-7395016813619208217@eventfrog.ch
DTSTAMP:20260419T224556Z
DTSTART:20260421T180000Z
DTEND:20260421T203000Z
SUMMARY:Bernd Hackl On Stage - „Ohne Brems’ und Lenkung“  Gotha
DESCRIPTION:Mit seinem brandneuen Programm „Ohne Brems’ und Lenkung“ geht Bernd Hackl in die zweite Runde – nicht im Sattel, sondern auf der Bühne - garantiert bauchmuskelstrapazierend!\nFreie Platzwahl!\n\nhttps://eventfrog.ch/de/p/theater-buehne/comedy-kabarett/bernd-hackl-on-stage-ohne-brems-und-lenkung-gotha-7395016813619208217.html
LOCATION:Stadthalle Gotha
GEO:50.955472;10.693892
URL:https://eventfrog.ch/de/p/theater-buehne/comedy-kabarett/bernd-hackl-on-stage-ohne-brems-und-lenkung-gotha-7395016813619208217.html
END:VEVENT
END:VCALENDAR