BEGIN:VCALENDAR
VERSION:2.0
PRODID:EVENTFROG//EVENT//ICAL
BEGIN:VEVENT
UID:20260426T000953Z-7397280318808444693@eventfrog.ch
DTSTAMP:20260426T000953Z
DTSTART:20260425T180000Z
SUMMARY:Simon & Garfunkel Tribute meets Classic
DESCRIPTION:Die Musik von Simon & Garfunkel ist wie geschaffen dafür, mit dem unverkennbaren Klang eines klassischen Streichensembles zu vereint zu werden.\n\nhttps://eventfrog.ch/de/p/konzerte/pop-rock/simon-garfunkel-tribute-meets-classic-7397280318808444693.html
LOCATION:Stadthalle Dillingen
GEO:49.371981;6.766536
URL:https://eventfrog.ch/de/p/konzerte/pop-rock/simon-garfunkel-tribute-meets-classic-7397280318808444693.html
END:VEVENT
END:VCALENDAR