BEGIN:VCALENDAR
VERSION:2.0
PRODID:EVENTFROG//EVENT//ICAL
BEGIN:VEVENT
UID:20260424T234618Z-7401914662705434128@eventfrog.ch
DTSTAMP:20260424T234618Z
DTSTART:20260508T180000Z
SUMMARY:"Nabelschau" mit Muriel Zemp
DESCRIPTION:Muriel Zemp präsentiert im neuen Soloprogramm intime Einblicke und kritische Lieder zu brennenden gesellschaftlichen Themen.\n\nhttps://eventfrog.ch/de/p/theater-buehne/buehnenveranstaltung/nabelschau-mit-muriel-zemp-7401914662705434128.html
LOCATION:Kleinbühne Kultur Neuenkirch
GEO:47.098960;8.202510
URL:https://eventfrog.ch/de/p/theater-buehne/buehnenveranstaltung/nabelschau-mit-muriel-zemp-7401914662705434128.html
END:VEVENT
END:VCALENDAR