BEGIN:VCALENDAR
VERSION:2.0
PRODID:EVENTFROG//EVENT//ICAL
BEGIN:VEVENT
UID:20260425T193226Z-7403565014647349943@eventfrog.ch
DTSTAMP:20260425T193226Z
DTSTART:20260427T120000Z
DTEND:20260427T124500Z
SUMMARY:Was macht das Wetter
DESCRIPTION:Eine spielerische und sehr visuelle Show.\n\nhttps://eventfrog.ch/de/p/theater-buehne/was-macht-das-wetter-7403565014647349943.html
LOCATION:TAK Theater Liechtenstein
GEO:47.167627;9.511821
URL:https://eventfrog.ch/de/p/theater-buehne/was-macht-das-wetter-7403565014647349943.html
END:VEVENT
END:VCALENDAR