BEGIN:VCALENDAR
VERSION:2.0
PRODID:EVENTFROG//EVENT//ICAL
BEGIN:VEVENT
UID:20260424T215920Z-7403565096759255943@eventfrog.ch
DTSTAMP:20260424T215920Z
DTSTART:20260424T180000Z
SUMMARY:Chäller – Falsch verbunden
DESCRIPTION:Das 3. Bühnenprogramm des begnadeten Bauchredners.\n\nhttps://eventfrog.ch/de/p/theater-buehne/chaeller-falsch-verbunden-7403565096759255943.html
LOCATION:Forum Landquart
GEO:46.957147;9.563191
URL:https://eventfrog.ch/de/p/theater-buehne/chaeller-falsch-verbunden-7403565096759255943.html
END:VEVENT
END:VCALENDAR