BEGIN:VCALENDAR
VERSION:2.0
PRODID:EVENTFROG//EVENT//ICAL
BEGIN:VEVENT
UID:20260425T015359Z-7406982378302735204@eventfrog.ch
DTSTAMP:20260425T015359Z
DTSTART:20260502T180000Z
SUMMARY:Mord ist Chefsache
DESCRIPTION:Das Schauspielensemble Iserlohn zeigt eine Kriminalkomödie mit einem Beerdigungsinstitut in einer tiefen Kriese\n\nhttps://eventfrog.ch/de/p/theater-buehne/theater/mord-ist-chefsache-7406982378302735204.html
LOCATION:Studio des Parktheaters Iserlohn
GEO:51.370883;7.690346
URL:https://eventfrog.ch/de/p/theater-buehne/theater/mord-ist-chefsache-7406982378302735204.html
END:VEVENT
END:VCALENDAR