BEGIN:VCALENDAR
VERSION:2.0
PRODID:EVENTFROG//EVENT//ICAL
BEGIN:VEVENT
UID:20260419T233853Z-7407913870197528296@eventfrog.ch
DTSTAMP:20260419T233853Z
DTSTART:20260509T150000Z
DTEND:20260509T180000Z
SUMMARY:Mitmischen!  Clubabend
DESCRIPTION:Mitmischen!  Clubabend\n\nhttps://eventfrog.ch/de/p/diverses/mitmischen-clubabend-7407913870197528296.html
LOCATION:Kunst Museum  Beim Stadthaus
GEO:47.501502;8.730397
URL:https://eventfrog.ch/de/p/diverses/mitmischen-clubabend-7407913870197528296.html
END:VEVENT
END:VCALENDAR