BEGIN:VCALENDAR
VERSION:2.0
PRODID:EVENTFROG//EVENT//ICAL
BEGIN:VEVENT
UID:20260419T181017Z-7415469024211954572@eventfrog.ch
DTSTAMP:20260419T181017Z
DTSTART:20260509T150000Z
SUMMARY:Saitenzauber und leise Töne - Virtuose Musik für Gitarre
DESCRIPTION:Annika Hutschreuther spielt am 9. Mai in der Sagarder Kirche ein Gitarrensolokonzert mit südamerikanischer, barocker und Jazzmusik.\n\nhttps://eventfrog.ch/de/p/klassik-opern/klassik/saitenzauber-und-leise-toene-virtuose-musik-fuer-gitarre-7415469024211954572.html
LOCATION:Kirche St. Michaelis Sagard
GEO:54.526626;13.555915
URL:https://eventfrog.ch/de/p/klassik-opern/klassik/saitenzauber-und-leise-toene-virtuose-musik-fuer-gitarre-7415469024211954572.html
END:VEVENT
END:VCALENDAR