BEGIN:VCALENDAR
VERSION:2.0
PRODID:EVENTFROG//EVENT//ICAL
BEGIN:VEVENT
UID:20260425T142633Z-7417704987474529814@eventfrog.ch
DTSTAMP:20260425T142633Z
DTSTART:20260429T170000Z
DTEND:20260429T190000Z
SUMMARY:Vortrag mit Marcel Paa
DESCRIPTION:Vortrag mit Marcel Paa\n\nhttps://eventfrog.ch/de/p/wissenschaft-und-technik/vortrag-mit-marcel-paa-7417704987474529814.html
LOCATION:Bibliothek Sirnach
GEO:47.464399;8.996889
URL:https://eventfrog.ch/de/p/wissenschaft-und-technik/vortrag-mit-marcel-paa-7417704987474529814.html
END:VEVENT
END:VCALENDAR