BEGIN:VCALENDAR
VERSION:2.0
PRODID:EVENTFROG//EVENT//ICAL
BEGIN:VEVENT
UID:20260424T024837Z-7418303434284093698@eventfrog.ch
DTSTAMP:20260424T024837Z
DTSTART:20260425T063000Z
DTEND:20260425T153000Z
SUMMARY:ADAC Motorrad Basis-Training
DESCRIPTION:Unser Kurs-Klassiker für alle Motorrad-Fahrer\n\nhttps://eventfrog.ch/de/p/kurse-seminare/coaching/adac-motorrad-basis-training-7418303434284093698.html
LOCATION:ADAC Verkehrsübungszentrum Kaarst
GEO:51.241930;6.649467
URL:https://eventfrog.ch/de/p/kurse-seminare/coaching/adac-motorrad-basis-training-7418303434284093698.html
END:VEVENT
END:VCALENDAR