BEGIN:VCALENDAR
VERSION:2.0
PRODID:EVENTFROG//EVENT//ICAL
BEGIN:VEVENT
UID:20260425T160822Z-7418305270047066102@eventfrog.ch
DTSTAMP:20260425T160822Z
DTSTART:20260426T063000Z
DTEND:20260426T153000Z
SUMMARY:ADAC Motorrad Basis-Training
DESCRIPTION:Unser Kurs-Klassiker für alle Motorrad-Fahrer\n\nhttps://eventfrog.ch/de/p/kurse-seminare/coaching/adac-motorrad-basis-training-7418305270047066102.html
LOCATION:ADAC Verkehrsübungszentrum Kaarst
GEO:51.241930;6.649467
URL:https://eventfrog.ch/de/p/kurse-seminare/coaching/adac-motorrad-basis-training-7418305270047066102.html
END:VEVENT
END:VCALENDAR