BEGIN:VCALENDAR
VERSION:2.0
PRODID:EVENTFROG//EVENT//ICAL
BEGIN:VEVENT
UID:20260420T013430Z-7421914444505068665@eventfrog.ch
DTSTAMP:20260420T013430Z
DTSTART:20260425T150000Z
DTEND:20260425T170000Z
SUMMARY:Lesung: Helmut Zierl "Follow the sun"
DESCRIPTION:Helmut Zierl liest aus seinem Buch"Follow the sun - Der Sommer meines Lebens".\n\nhttps://eventfrog.ch/de/p/diverses/lesung-helmut-zierl-follow-the-sun-7421914444505068665.html
LOCATION:Stadtklubhaus
GEO:52.628340;13.204194
URL:https://eventfrog.ch/de/p/diverses/lesung-helmut-zierl-follow-the-sun-7421914444505068665.html
END:VEVENT
END:VCALENDAR