BEGIN:VCALENDAR
VERSION:2.0
PRODID:EVENTFROG//EVENT//ICAL
BEGIN:VEVENT
UID:20260424T233708Z-7424105946933127469@eventfrog.ch
DTSTAMP:20260424T233708Z
DTSTART:20260425T170000Z
DTEND:20260425T200000Z
SUMMARY:Comedy Night  Vol. 3  Comedy-Abend der Extraklasse
DESCRIPTION:Faisal Kawusi live in Bendern!\nGemeinsam mit Gabirano, Abed & Halid TV bringt er am 25. April 2026 das Grand Casino Liechtenstein zum Lachen.\nComedy-Show, Fingerfood, Drink & Aftershow ............\n\nhttps://eventfrog.ch/de/p/theater-buehne/comedy-kabarett/comedy-night-vol-3-comedy-abend-der-extraklasse-7424105946933127469.html
LOCATION:Events GCLI
GEO:47.205171;9.502658
URL:https://eventfrog.ch/de/p/theater-buehne/comedy-kabarett/comedy-night-vol-3-comedy-abend-der-extraklasse-7424105946933127469.html
END:VEVENT
END:VCALENDAR