BEGIN:VCALENDAR
VERSION:2.0
PRODID:EVENTFROG//EVENT//ICAL
BEGIN:VEVENT
UID:20260424T132517Z-7424220027954426077@eventfrog.ch
DTSTAMP:20260424T132517Z
DTSTART:20260626T100000Z
DTEND:20260626T110000Z
SUMMARY:Spiralmuskeltraining – regelmässige Übungsstunden
DESCRIPTION:Spiralmuskeltraining-Kurse vertiefen Haltung, Koordination und Körpergefühl zur Wirbelsäulenaufspannung.\n\nhttps://eventfrog.ch/de/p/sport-fitness/turnen/spiralmuskeltraining-regelmaessige-uebungsstunden-7424220027954426077.html
LOCATION:Gsundheitspraxis Kriech
GEO:47.067071;7.343919
URL:https://eventfrog.ch/de/p/sport-fitness/turnen/spiralmuskeltraining-regelmaessige-uebungsstunden-7424220027954426077.html
END:VEVENT
END:VCALENDAR