BEGIN:VCALENDAR
VERSION:2.0
PRODID:EVENTFROG//EVENT//ICAL
BEGIN:VEVENT
UID:20260425T004211Z-7425938947585376361@eventfrog.ch
DTSTAMP:20260425T004211Z
DTSTART:20260425T170000Z
SUMMARY:Klezmer und mehr
DESCRIPTION:Am 25.4.2026 spielt das Duo KLArissimo (Stefan Volz, Klarinette und Heidrun Paulus, Klavier,Moderation) in der St. Michaelskirche Rheinzabern Klezmer, Klassik und Filmmusik.\n\nhttps://eventfrog.ch/de/p/konzerte/weitere-musikrichtungen/klezmer-und-mehr-7425938947585376361.html
LOCATION:Kath. Kirche St. Michael
GEO:49.119238;8.278407
URL:https://eventfrog.ch/de/p/konzerte/weitere-musikrichtungen/klezmer-und-mehr-7425938947585376361.html
END:VEVENT
END:VCALENDAR