BEGIN:VCALENDAR
VERSION:2.0
PRODID:EVENTFROG//EVENT//ICAL
BEGIN:VEVENT
UID:20260426T010432Z-7425940642268713285@eventfrog.ch
DTSTAMP:20260426T010432Z
DTSTART:20260426T150000Z
SUMMARY:Klezmer und mehr
DESCRIPTION:Am 26.4.2026 spielt das Duo KLArissimo (Stefan Volz, Klarinette und Heidrun Paulus, Klavier,Moderation) in der Alten Winzinger Kirche Klezmermusik mit Klassik- und Filmmusik\n\nhttps://eventfrog.ch/de/p/konzerte/weitere-musikrichtungen/klezmer-und-mehr-7425940642268713285.html
LOCATION:Alte Winzinger Kirche
GEO:49.353317;8.149636
URL:https://eventfrog.ch/de/p/konzerte/weitere-musikrichtungen/klezmer-und-mehr-7425940642268713285.html
END:VEVENT
END:VCALENDAR