BEGIN:VCALENDAR
VERSION:2.0
PRODID:EVENTFROG//EVENT//ICAL
BEGIN:VEVENT
UID:20260425T170233Z-7426036475710415740@eventfrog.ch
DTSTAMP:20260425T170233Z
DTSTART:20260426T094500Z
DTEND:20260426T130000Z
SUMMARY:Kloster & Natur
DESCRIPTION:Kloster & Natur\n\nhttps://eventfrog.ch/de/p/essen-trinken/kloster-natur-7426036475710415740.html
LOCATION:Restaurant Kloster Fischingen
GEO:47.398679;8.959651
URL:https://eventfrog.ch/de/p/essen-trinken/kloster-natur-7426036475710415740.html
END:VEVENT
END:VCALENDAR