BEGIN:VCALENDAR
VERSION:2.0
PRODID:EVENTFROG//EVENT//ICAL
BEGIN:VEVENT
UID:20260424T181425Z-7427695319796722944@eventfrog.ch
DTSTAMP:20260424T181425Z
DTSTART:20260711T130000Z
DTEND:20260711T143000Z
SUMMARY:KlavierOlympioniken 2025 - Kissinger Sommer
DESCRIPTION:Der Kissinger KlavierOlymp 2026 zeigt mit Helmchen, Levit und Borisov ein exklusives Line-Up internationaler Pianisten.\n\nhttps://eventfrog.ch/de/p/klassik-opern/klassik/klavierolympioniken-2025-kissinger-sommer-7427695319796722944.html
LOCATION:Rossini-Saal Arkadenbau
GEO:50.198142;10.074127
URL:https://eventfrog.ch/de/p/klassik-opern/klassik/klavierolympioniken-2025-kissinger-sommer-7427695319796722944.html
END:VEVENT
END:VCALENDAR