BEGIN:VCALENDAR
VERSION:2.0
PRODID:EVENTFROG//EVENT//ICAL
BEGIN:VEVENT
UID:20260424T161549Z-7432158683918770543@eventfrog.ch
DTSTAMP:20260424T161549Z
DTSTART:20260531T130000Z
DTEND:20260531T160000Z
SUMMARY:Open-Air Konzert des Orchesters Brass-Sax
DESCRIPTION:Open-Air Konzert des Orchesters Brass-Sax am 31.05.2026 im Rhododendronpark Gristede mit Film-, Musical- und Popmelodien sowie Originalkompositionen. \n\nhttps://eventfrog.ch/de/p/konzerte/blasmusik/open-air-konzert-des-orchesters-brass-sax-7432158683918770543.html
LOCATION:Rhododendronpark Gristede
GEO:53.225974;8.080916
URL:https://eventfrog.ch/de/p/konzerte/blasmusik/open-air-konzert-des-orchesters-brass-sax-7432158683918770543.html
END:VEVENT
END:VCALENDAR