BEGIN:VCALENDAR
VERSION:2.0
PRODID:EVENTFROG//EVENT//ICAL
BEGIN:VEVENT
UID:20260425T160821Z-7432429086994115866@eventfrog.ch
DTSTAMP:20260425T160821Z
DTSTART:20260426T080000Z
DTEND:20260426T160000Z
SUMMARY:Halal Finance & Barakah Business Unternehmen richtig §teuern
DESCRIPTION:Am 26. April findet in Köln ein Intensiv-Seminar zu Steueroptimierung, Immobilien und halal-konformem Vermögensaufbau statt.\n\nhttps://eventfrog.ch/de/p/kurse-seminare/sonstige-kurse-seminare/halal-finance-barakah-business-unternehmen-richtig-teuern-7432429086994115866.html
LOCATION:Köln (Genaue Adresse folgt)
URL:https://eventfrog.ch/de/p/kurse-seminare/sonstige-kurse-seminare/halal-finance-barakah-business-unternehmen-richtig-teuern-7432429086994115866.html
END:VEVENT
END:VCALENDAR