BEGIN:VCALENDAR
VERSION:2.0
PRODID:EVENTFROG//EVENT//ICAL
BEGIN:VEVENT
UID:20260425T141034Z-7433023588674860461@eventfrog.ch
DTSTAMP:20260425T141034Z
DTSTART:20260913T080000Z
DTEND:20261010T150000Z
SUMMARY:Pilzbestimmung leicht gemacht – 1-tägiger Grundlagenkurs
DESCRIPTION:Was dich erwartet:\n Einführung in typische Merkmale und Gattungen\n Umgang mit Bestimmungsschlüsseln und Fachliteratur\n Kurze Exkursion in den Wald mit Sammelübungen\n Praktische Bestimmungsübun\n\nhttps://eventfrog.ch/de/p/fuehrungen-vortraege/fuehrung/pilzbestimmung-leicht-gemacht-1-taegiger-grundlagenkurs-7433023588674860461.html
LOCATION:Pilzkurse & Pilzwanderungen Bergstraße/Odenwald
GEO:49.687054;8.724414
URL:https://eventfrog.ch/de/p/fuehrungen-vortraege/fuehrung/pilzbestimmung-leicht-gemacht-1-taegiger-grundlagenkurs-7433023588674860461.html
END:VEVENT
END:VCALENDAR