BEGIN:VCALENDAR
VERSION:2.0
PRODID:EVENTFROG//EVENT//ICAL
BEGIN:VEVENT
UID:20260424T073700Z-7433873031695458684@eventfrog.ch
DTSTAMP:20260424T073700Z
DTSTART:20261025T130000Z
DTEND:20261025T144000Z
SUMMARY:WOW! - Profesora & Professor Bummbastic
DESCRIPTION:«WOW!» von Profesora und Professor Bummbastic ist eine mitreissende Wissenschaftsshow für Familien ab 5 Jahren mit spannenden Experimenten.\n\nhttps://eventfrog.ch/de/p/kinderveranstaltungen/familienveranstaltungen/wow-profesora-professor-bummbastic-7433873031695458684.html
LOCATION:Zofingen, Stadtsaal
GEO:47.290840;7.947573
URL:https://eventfrog.ch/de/p/kinderveranstaltungen/familienveranstaltungen/wow-profesora-professor-bummbastic-7433873031695458684.html
END:VEVENT
END:VCALENDAR