BEGIN:VCALENDAR
VERSION:2.0
PRODID:EVENTFROG//EVENT//ICAL
BEGIN:VEVENT
UID:20260419T231925Z-7435097646920907521@eventfrog.ch
DTSTAMP:20260419T231925Z
DTSTART:20260422T170000Z
DTEND:20260422T180000Z
SUMMARY:Hanspeter Bäni: Der Reporter – Geschichten jenseits der Dreh
DESCRIPTION:Lesung.\n\nhttps://eventfrog.ch/de/p/theater-buehne/hanspeter-baeni-der-reporter-geschichten-jenseits-der-dreh-7435097646920907521.html
LOCATION:Kulturhaus Obere Stube
GEO:47.659374;8.860269
URL:https://eventfrog.ch/de/p/theater-buehne/hanspeter-baeni-der-reporter-geschichten-jenseits-der-dreh-7435097646920907521.html
END:VEVENT
END:VCALENDAR