BEGIN:VCALENDAR
VERSION:2.0
PRODID:EVENTFROG//EVENT//ICAL
BEGIN:VEVENT
UID:20260424T181424Z-7436721133666221188@eventfrog.ch
DTSTAMP:20260424T181424Z
DTSTART:20261111T090000Z
DTEND:20261111T130000Z
SUMMARY:Tages-Workshop Luftakrobatik in der Zirkusfabrik
DESCRIPTION:Luftakrobatik Workshop\n\nhttps://eventfrog.ch/de/p/kinderveranstaltungen/kinderzirkus/tages-workshop-luftakrobatik-in-der-zirkusfabrik-7436721133666221188.html
LOCATION:Zirkusfabrik Köln Dellbrück
GEO:50.980990;7.072040
URL:https://eventfrog.ch/de/p/kinderveranstaltungen/kinderzirkus/tages-workshop-luftakrobatik-in-der-zirkusfabrik-7436721133666221188.html
END:VEVENT
END:VCALENDAR