BEGIN:VCALENDAR
VERSION:2.0
PRODID:EVENTFROG//EVENT//ICAL
BEGIN:VEVENT
UID:20260426T000953Z-7437995660161346123@eventfrog.ch
DTSTAMP:20260426T000953Z
DTSTART:20260425T180000Z
SUMMARY:The Tiger Lillies
DESCRIPTION:Dark Cabaret.\n\nhttps://eventfrog.ch/de/p/konzerte/the-tiger-lillies-7437995660161346123.html
LOCATION:Club Vaudeville
GEO:47.551382;9.722851
URL:https://eventfrog.ch/de/p/konzerte/the-tiger-lillies-7437995660161346123.html
END:VEVENT
END:VCALENDAR