BEGIN:VCALENDAR
VERSION:2.0
PRODID:EVENTFROG//EVENT//ICAL
BEGIN:VEVENT
UID:20260426T022705Z-7438671227202329746@eventfrog.ch
DTSTAMP:20260426T022705Z
DTSTART:20260430T140000Z
DTEND:20260501T003000Z
SUMMARY:Tanz in den Mai
DESCRIPTION:Am 30.04. findet in Bornheim Roisdorf ab 16 Uhr das Kindermaifest und ab 18 Uhr der traditionelle Tanz in den Mai mit Maibaumstellen, DJs, Biergarten und Imbiss statt.\n\nhttps://eventfrog.ch/de/p/partys/disco/tanz-in-den-mai-7438671227202329746.html
LOCATION:Festzelt Dorfplatz Roisdorf
GEO:50.754917;7.006036
URL:https://eventfrog.ch/de/p/partys/disco/tanz-in-den-mai-7438671227202329746.html
END:VEVENT
END:VCALENDAR