BEGIN:VCALENDAR
VERSION:2.0
PRODID:EVENTFROG//EVENT//ICAL
BEGIN:VEVENT
UID:20260420T011828Z-7438722041224663935@eventfrog.ch
DTSTAMP:20260420T011828Z
DTSTART:20260423T180000Z
SUMMARY:The Effect feat. Henrik Linder
DESCRIPTION:Powertrio auf Klangforschung.\n\nhttps://eventfrog.ch/de/p/konzerte/the-effect-feat-henrik-linder-7438722041224663935.html
LOCATION:Zehntscheuer Ravensburg
GEO:47.784464;9.612142
URL:https://eventfrog.ch/de/p/konzerte/the-effect-feat-henrik-linder-7438722041224663935.html
END:VEVENT
END:VCALENDAR