BEGIN:VCALENDAR
VERSION:2.0
PRODID:EVENTFROG//EVENT//ICAL
BEGIN:VEVENT
UID:20260426T000954Z-7438722043229541354@eventfrog.ch
DTSTAMP:20260426T000954Z
DTSTART:20260425T180000Z
SUMMARY:Kai Strauss & The Electric Blues-Allstars
DESCRIPTION:Support: Tscheky & the Blues Kings.\n\nhttps://eventfrog.ch/de/p/konzerte/kai-strauss-the-electric-blues-allstars-7438722043229541354.html
LOCATION:Zehntscheuer Ravensburg
GEO:47.784464;9.612142
URL:https://eventfrog.ch/de/p/konzerte/kai-strauss-the-electric-blues-allstars-7438722043229541354.html
END:VEVENT
END:VCALENDAR