BEGIN:VCALENDAR
VERSION:2.0
PRODID:EVENTFROG//EVENT//ICAL
BEGIN:VEVENT
UID:20260425T123220Z-7439308423127137268@eventfrog.ch
DTSTAMP:20260425T123220Z
DTSTART:20260904T160000Z
DTEND:20260906T110000Z
SUMMARY:Autogenes Training für Eilige - Wochenendkurs
DESCRIPTION:Kassenzertifizierter Kompaktkurs zum Erlernen der Grundlagen des Autogenen Training mit Anleitung zum Vertiefen im Alltag\n\nhttps://eventfrog.ch/de/p/kurse-seminare/sonstige-kurse-seminare/autogenes-training-fuer-eilige-wochenendkurs-7439308423127137268.html
LOCATION:Aktiv Entspannt- Zentrum für Klang und Entspannung Sylvia Ellingen
GEO:50.726517;7.366158
URL:https://eventfrog.ch/de/p/kurse-seminare/sonstige-kurse-seminare/autogenes-training-fuer-eilige-wochenendkurs-7439308423127137268.html
END:VEVENT
END:VCALENDAR