BEGIN:VCALENDAR
VERSION:2.0
PRODID:EVENTFROG//EVENT//ICAL
BEGIN:VEVENT
UID:20260419T123817Z-7439625957151888247@eventfrog.ch
DTSTAMP:20260419T123817Z
DTSTART:20270129T120000Z
DTEND:20270131T150000Z
SUMMARY:Resilienz durch Kälte-Resistenz
DESCRIPTION:Drei Tage am gefrorenen Schwarzsee FR mit Kältetraining, Resilienzpraxis und Theorie stärken innere Kraft und Gemeinschaft. Für Kälte - Anfänger bis zum Kälte - Profi. Mit und ohne eigene Begleitung.\n\nhttps://eventfrog.ch/de/p/freizeit-ausfluege/sonstige-veranstaltungen/resilienz-durch-kaelte-resistenz-7439625957151888247.html
LOCATION:Naturfreundehaus Aurore, Schwarzsee FR
GEO:46.668020;7.288366
URL:https://eventfrog.ch/de/p/freizeit-ausfluege/sonstige-veranstaltungen/resilienz-durch-kaelte-resistenz-7439625957151888247.html
END:VEVENT
END:VCALENDAR