BEGIN:VCALENDAR
VERSION:2.0
PRODID:EVENTFROG//EVENT//ICAL
BEGIN:VEVENT
UID:20260425T154257Z-7441984096375463776@eventfrog.ch
DTSTAMP:20260425T154257Z
DTSTART:20260425T180000Z
SUMMARY:Simon Enzler – zmetztinne Comedy
DESCRIPTION:Simon Enzler - zmetztinne Comedy\n\nhttps://eventfrog.ch/de/p/theater-buehne/simon-enzler-zmetztinne-comedy-7441984096375463776.html
LOCATION:Schwanenbühne
GEO:47.657309;8.858447
URL:https://eventfrog.ch/de/p/theater-buehne/simon-enzler-zmetztinne-comedy-7441984096375463776.html
END:VEVENT
END:VCALENDAR