BEGIN:VCALENDAR
VERSION:2.0
PRODID:EVENTFROG//EVENT//ICAL
BEGIN:VEVENT
UID:20260424T075609Z-7442108229327269715@eventfrog.ch
DTSTAMP:20260424T075609Z
DTSTART:20260611T220000Z
DTEND:20260614T210000Z
SUMMARY:83. Oberwalliser Tambouren und Pfeiferfest in Unterbäch
DESCRIPTION:Erlebe zwei Abende mit Vereinen, Live‑Acts und drei Wettspiel‑Finals im Festzelt – unter dem Motto «Ewigi Liäbi». Vorverkauf: 15.– statt 20.–.\n\nhttps://eventfrog.ch/de/p/volksfeste/sonstige-feste/83-oberwalliser-tambouren-und-pfeiferfest-in-unterbaech-7442108229327269715.html
LOCATION:Schüfolbodo
GEO:46.287974;7.800051
URL:https://eventfrog.ch/de/p/volksfeste/sonstige-feste/83-oberwalliser-tambouren-und-pfeiferfest-in-unterbaech-7442108229327269715.html
END:VEVENT
END:VCALENDAR