BEGIN:VCALENDAR
VERSION:2.0
PRODID:EVENTFROG//EVENT//ICAL
BEGIN:VEVENT
UID:20260424T081158Z-7443695548253627986@eventfrog.ch
DTSTAMP:20260424T081158Z
DTSTART:20260522T170000Z
SUMMARY:Voix Libre
DESCRIPTION:Atelier d'exploration vocale -  Viens jouer avec ta voix, explorer ta palette sonore en groupe et oser le chant sans complexe.\n\nhttps://eventfrog.ch/fr/p/cours-seminaires/musique-danse/voix-libre-7443695548253627986.html
LOCATION:Yourte Plan-Les-Ouates
GEO:46.163466;6.130463
URL:https://eventfrog.ch/fr/p/cours-seminaires/musique-danse/voix-libre-7443695548253627986.html
END:VEVENT
END:VCALENDAR