BEGIN:VCALENDAR
VERSION:2.0
PRODID:EVENTFROG//EVENT//ICAL
BEGIN:VEVENT
UID:20260426T035007Z-7443793300551653846@eventfrog.ch
DTSTAMP:20260426T035007Z
DTSTART:20260523T160000Z
SUMMARY:Unter Pflanzen / Regiegespräch mit Antshi von Moos
DESCRIPTION:Unter Pflanzen / Regiegespräch mit Antshi von Moos\n\nhttps://eventfrog.ch/de/p/freizeit-ausfluege/unter-pflanzen-regiegesprach-mit-antshi-von-moos-7443793300551653846.html
LOCATION:Kino Cameo
GEO:47.494450;8.718060
URL:https://eventfrog.ch/de/p/freizeit-ausfluege/unter-pflanzen-regiegesprach-mit-antshi-von-moos-7443793300551653846.html
END:VEVENT
END:VCALENDAR