BEGIN:VCALENDAR
VERSION:2.0
PRODID:EVENTFROG//EVENT//ICAL
BEGIN:VEVENT
UID:20260426T000954Z-7444005912744825431@eventfrog.ch
DTSTAMP:20260426T000954Z
DTSTART:20260426T140000Z
SUMMARY:Das bunte Kind vom grauen Stern - Marionettentheater
DESCRIPTION:Prinzessin Amalthea rettet den Planeten Chroma vor dem grauen Drachen und bringt mit Freunden die Farben zurück.\n\nhttps://eventfrog.ch/de/p/theater-buehne/theater/das-bunte-kind-vom-grauen-stern-marionettentheater-7444005912744825431.html
LOCATION:Puppenschiff
GEO:49.976937;9.086685
URL:https://eventfrog.ch/de/p/theater-buehne/theater/das-bunte-kind-vom-grauen-stern-marionettentheater-7444005912744825431.html
END:VEVENT
END:VCALENDAR