BEGIN:VCALENDAR
VERSION:2.0
PRODID:EVENTFROG//EVENT//ICAL
BEGIN:VEVENT
UID:20260420T031719Z-7444669794966633566@eventfrog.ch
DTSTAMP:20260420T031719Z
DTSTART:20260623T050000Z
DTEND:20260623T053500Z
SUMMARY:Sonne aus dem Koffer
DESCRIPTION:Frühkonzerte FRAK 2026\nMusik in Pfäffikon\n\nhttps://eventfrog.ch/de/p/konzerte/weitere-musikrichtungen/sonne-aus-dem-koffer-7444669794966633566.html
LOCATION:Atelier Dati
GEO:47.365930;8.787137
URL:https://eventfrog.ch/de/p/konzerte/weitere-musikrichtungen/sonne-aus-dem-koffer-7444669794966633566.html
END:VEVENT
END:VCALENDAR