BEGIN:VCALENDAR
VERSION:2.0
PRODID:EVENTFROG//EVENT//ICAL
BEGIN:VEVENT
UID:20260425T234415Z-7444679928266666599@eventfrog.ch
DTSTAMP:20260425T234415Z
DTSTART:20260425T180000Z
DTEND:20260425T213000Z
SUMMARY:Tanz in den Mai - live: Triple Trouble
DESCRIPTION:Triple Trouble spielt Welthits im Taschenformat zum Tanz in den Mai in den Kleinwachauer Werkstätten mit DJ Herr Nickl.\n\nhttps://eventfrog.ch/de/p/konzerte/pop-rock/tanz-in-den-mai-live-triple-trouble-7444679928266666599.html
LOCATION:Epilepsiezentrum Kleinwachau
GEO:51.141985;13.899568
URL:https://eventfrog.ch/de/p/konzerte/pop-rock/tanz-in-den-mai-live-triple-trouble-7444679928266666599.html
END:VEVENT
END:VCALENDAR