BEGIN:VCALENDAR
VERSION:2.0
PRODID:EVENTFROG//EVENT//ICAL
BEGIN:VEVENT
UID:20260424T144911Z-7444713364268276790@eventfrog.ch
DTSTAMP:20260424T144911Z
DTSTART:20260425T080000Z
DTEND:20260426T120000Z
SUMMARY:FasQination – Faszienarbeit trifft QISSENZ (KI)
DESCRIPTION:Elias Teshome & Alexander Oettel verbinden Faszienarbeit und QISSENZ am 25./26. April in Bergneustadt für intensive Körpererfahrung.\n\nhttps://eventfrog.ch/de/p/kurse-seminare/sonstige-kurse-seminare/fasqination-faszienarbeit-trifft-qissenz-ki-7444713364268276790.html
LOCATION:mutmacherei - Der Stadtteilladen für Gesundheit, Soziales und Sport
GEO:51.033475;7.641350
URL:https://eventfrog.ch/de/p/kurse-seminare/sonstige-kurse-seminare/fasqination-faszienarbeit-trifft-qissenz-ki-7444713364268276790.html
END:VEVENT
END:VCALENDAR