BEGIN:VCALENDAR
VERSION:2.0
PRODID:EVENTFROG//EVENT//ICAL
BEGIN:VEVENT
UID:20260424T081832Z-7445584011286583487@eventfrog.ch
DTSTAMP:20260424T081832Z
DTSTART:20260926T150000Z
DTEND:20260926T215900Z
SUMMARY:Musik Grill Pfaffnau
DESCRIPTION:Familienkonzert mit Grilladen und Kinderbetreuung für einen schönen Tag voller Musik und Spass.\n\nhttps://eventfrog.ch/de/p/konzerte/blasmusik/musik-grill-pfaffnau-7445584011286583487.html
LOCATION:Musik Grill Pfaffnau
GEO:47.233289;7.907106
URL:https://eventfrog.ch/de/p/konzerte/blasmusik/musik-grill-pfaffnau-7445584011286583487.html
END:VEVENT
END:VCALENDAR