BEGIN:VCALENDAR
VERSION:2.0
PRODID:EVENTFROG//EVENT//ICAL
BEGIN:VEVENT
UID:20260419T184410Z-7446252723186488965@eventfrog.ch
DTSTAMP:20260419T184410Z
DTSTART:20260422T173000Z
DTEND:20260422T200000Z
SUMMARY:Das 1. Gütersloher RUDELSINGEN in der Stadthalle
DESCRIPTION:Endlich kommt das Original RUDELSINGEN mit dem Team Götz nach Gütersloh in den Kleinen Saal der Stadthalle. Wir singen über 2 Stunden lang gemeinsam die größten RUDELSINGEN Hits von gestern bis heute \n\nhttps://eventfrog.ch/de/p/konzerte/pop-rock/das-1-guetersloher-rudelsingen-in-der-stadthalle-7446252723186488965.html
LOCATION:Stadthalle Gütersloh
GEO:51.906379;8.371567
URL:https://eventfrog.ch/de/p/konzerte/pop-rock/das-1-guetersloher-rudelsingen-in-der-stadthalle-7446252723186488965.html
END:VEVENT
END:VCALENDAR