BEGIN:VCALENDAR
VERSION:2.0
PRODID:EVENTFROG//EVENT//ICAL
BEGIN:VEVENT
UID:20260425T123221Z-7446510411677987096@eventfrog.ch
DTSTAMP:20260425T123221Z
DTSTART:20260919T173000Z
DTEND:20260919T210000Z
SUMMARY:ANONYME IMPRONIKER
DESCRIPTION:Die Anonymen Improniker improvisieren live Bühnenstücke nach Publikumswünschen – spannend, einzigartig und unvorhersehbar.\n\nhttps://eventfrog.ch/de/p/theater-buehne/comedy-kabarett/anonyme-improniker-7446510411677987096.html
LOCATION:Bürgersaal im Rathaus Pettstadt
GEO:49.830724;10.925280
URL:https://eventfrog.ch/de/p/theater-buehne/comedy-kabarett/anonyme-improniker-7446510411677987096.html
END:VEVENT
END:VCALENDAR