BEGIN:VCALENDAR
VERSION:2.0
PRODID:EVENTFROG//EVENT//ICAL
BEGIN:VEVENT
UID:20260426T033658Z-7447328122909753859@eventfrog.ch
DTSTAMP:20260426T033658Z
DTSTART:20260430T170000Z
DTEND:20260501T010000Z
SUMMARY:TANZ IN DEN MAI
DESCRIPTION:Der Musikverein Calcar spielt live zum Tanz in den Mai mit attraktiven Getränkeangeboten für einen schwungvollen Abend.\n\nhttps://eventfrog.ch/de/p/partys/sonstige-partys/tanz-in-den-mai-7447328122909753859.html
LOCATION:Zum Apfelbaum
GEO:51.723685;6.352543
URL:https://eventfrog.ch/de/p/partys/sonstige-partys/tanz-in-den-mai-7447328122909753859.html
END:VEVENT
END:VCALENDAR