BEGIN:VCALENDAR
VERSION:2.0
PRODID:EVENTFROG//EVENT//ICAL
BEGIN:VEVENT
UID:20260420T071458Z-7447556345111268968@eventfrog.ch
DTSTAMP:20260420T071458Z
DTSTART:20260430T180000Z
SUMMARY:Tanz in den Mai 2026
DESCRIPTION:Am 30. April öffnen ab 20 Uhr ULTIMO und DJ Patrick Strub im Schlachthof Lahr die Tanz-in-den-Mai-Party mit Livemusik.\n\nhttps://eventfrog.ch/de/p/partys/pop-rock/tanz-in-den-mai-2026-7447556345111268968.html
LOCATION:Schlachthof - Jugend & Kultur
GEO:48.338320;7.859812
URL:https://eventfrog.ch/de/p/partys/pop-rock/tanz-in-den-mai-2026-7447556345111268968.html
END:VEVENT
END:VCALENDAR