BEGIN:VCALENDAR
VERSION:2.0
PRODID:EVENTFROG//EVENT//ICAL
BEGIN:VEVENT
UID:20260424T160914Z-7447583243161879648@eventfrog.ch
DTSTAMP:20260424T160914Z
DTSTART:20260530T183000Z
DTEND:20260530T203000Z
SUMMARY:SauLustig - Comedy Showcase
DESCRIPTION:«SauLustig» bietet im Basler Comedy-Club The Beast monatlich Schweizerdeutsche Stand-up-Shows mit Newcomern und Top-Comedians.\n\nhttps://eventfrog.ch/en/p/theatre-stage/comedy-cabaret/saulustig-comedy-showcase-7447583243161879648.html
LOCATION:The Beast Basel Comedy Club
GEO:47.556046;7.589448
URL:https://eventfrog.ch/en/p/theatre-stage/comedy-cabaret/saulustig-comedy-showcase-7447583243161879648.html
END:VEVENT
END:VCALENDAR