BEGIN:VCALENDAR
VERSION:2.0
PRODID:EVENTFROG//EVENT//ICAL
BEGIN:VEVENT
UID:20260419T170544Z-7447589237615006171@eventfrog.ch
DTSTAMP:20260419T170544Z
DTSTART:20260504T123000Z
DTEND:20260504T153000Z
SUMMARY:Futura - 10. Schuljahr am Talent-Campus Bodensee
DESCRIPTION:Wie weiter nach der Sekundarschule? Im privaten 10. Schuljahr "Futura" unterstützen wir Jugendliche bei der Berufswahl, der Vorbereitungen auf eine weiterführende Schule oder Lehrstellensuche. \n\nhttps://eventfrog.ch/de/p/kurse-seminare/berufliche-bildung/futura-10-schuljahr-am-talent-campus-bodensee-7447589237615006171.html
LOCATION:Talent Campus Bodensee
GEO:47.654250;9.177938
URL:https://eventfrog.ch/de/p/kurse-seminare/berufliche-bildung/futura-10-schuljahr-am-talent-campus-bodensee-7447589237615006171.html
END:VEVENT
END:VCALENDAR