BEGIN:VCALENDAR
VERSION:2.0
PRODID:EVENTFROG//EVENT//ICAL
BEGIN:VEVENT
UID:20260425T021054Z-7447725021579973003@eventfrog.ch
DTSTAMP:20260425T021054Z
DTSTART:20260425T173000Z
DTEND:20260425T200000Z
SUMMARY:Ein wenig Farbe - Das Kammermusical
DESCRIPTION:EIN WENIG FARBE – Ein Musical über Identität, Mut und die Suche nach dem eigenen Ich\n\nhttps://eventfrog.ch/de/p/theater-buehne/theater/ein-wenig-farbe-das-kammermusical-7447725021579973003.html
LOCATION:KatiElli Theater
GEO:51.628273;7.324352
URL:https://eventfrog.ch/de/p/theater-buehne/theater/ein-wenig-farbe-das-kammermusical-7447725021579973003.html
END:VEVENT
END:VCALENDAR