BEGIN:VCALENDAR
VERSION:2.0
PRODID:EVENTFROG//EVENT//ICAL
BEGIN:VEVENT
UID:20260426T004209Z-7447929342556962043@eventfrog.ch
DTSTAMP:20260426T004209Z
DTSTART:20260425T183000Z
DTEND:20260425T213000Z
SUMMARY:"Stinger" - Rockgeschichte am 25. April im M-Pire
DESCRIPTION:Die Band Stinger spielt leidenschaftliche Rockmusik mit Klassikern von McOIL, Deep Purple und Scorpions im süddeutschen Raum.\n\nhttps://eventfrog.ch/de/p/konzerte/pop-rock/stinger-rockgeschichte-am-25-april-im-m-pire-7447929342556962043.html
LOCATION:M-Pire im Stadtteilhaus Gaisental
GEO:48.103337;9.771492
URL:https://eventfrog.ch/de/p/konzerte/pop-rock/stinger-rockgeschichte-am-25-april-im-m-pire-7447929342556962043.html
END:VEVENT
END:VCALENDAR